Package: regsplice Version: 1.33.0 Command: /Library/Frameworks/R.framework/Resources/bin/R CMD INSTALL regsplice StartedAt: 2025-02-18 15:33:13 -0500 (Tue, 18 Feb 2025) EndedAt: 2025-02-18 15:33:42 -0500 (Tue, 18 Feb 2025) EllapsedTime: 29.9 seconds RetCode: 0 Status: OK