Package: regsplice Version: 1.33.0 Command: /Library/Frameworks/R.framework/Resources/bin/R CMD check --install=check:regsplice.install-out.txt --library=/Library/Frameworks/R.framework/Resources/library --no-vignettes --timings regsplice_1.33.0.tar.gz StartedAt: 2025-02-18 22:36:59 -0500 (Tue, 18 Feb 2025) EndedAt: 2025-02-18 22:40:53 -0500 (Tue, 18 Feb 2025) EllapsedTime: 234.5 seconds RetCode: 0 Status: OK CheckDir: regsplice.Rcheck Warnings: 0