Package: regsplice Version: 1.33.0 Command: /Library/Frameworks/R.framework/Resources/bin/R CMD INSTALL regsplice StartedAt: 2025-02-17 15:21:41 -0500 (Mon, 17 Feb 2025) EndedAt: 2025-02-17 15:21:51 -0500 (Mon, 17 Feb 2025) EllapsedTime: 9.7 seconds RetCode: 0 Status: OK