Package: regioneReloaded Version: 1.9.0 Command: E:\biocbuild\bbs-3.21-bioc\R\bin\R.exe CMD INSTALL regioneReloaded StartedAt: 2025-02-20 16:27:42 -0500 (Thu, 20 Feb 2025) EndedAt: 2025-02-20 16:28:56 -0500 (Thu, 20 Feb 2025) EllapsedTime: 74.1 seconds RetCode: 0 Status: OK