Package: regioneReloaded Version: 1.9.0 Command: rm -rf regioneReloaded.buildbin-libdir && mkdir regioneReloaded.buildbin-libdir && E:\biocbuild\bbs-3.21-bioc\R\bin\R.exe CMD INSTALL --build --library=regioneReloaded.buildbin-libdir regioneReloaded_1.9.0.tar.gz StartedAt: 2025-02-21 08:53:49 -0500 (Fri, 21 Feb 2025) EndedAt: 2025-02-21 08:55:19 -0500 (Fri, 21 Feb 2025) EllapsedTime: 91.0 seconds RetCode: 0 Status: OK PackageFile: regioneReloaded_1.9.0.zip PackageFileSize: 2.158 MiB