Package: regioneReloaded Version: 1.9.0 Command: /home/biocbuild/bbs-3.21-bioc/R/bin/R CMD INSTALL regioneReloaded StartedAt: 2025-02-20 16:10:30 -0500 (Thu, 20 Feb 2025) EndedAt: 2025-02-20 16:11:05 -0500 (Thu, 20 Feb 2025) EllapsedTime: 35.0 seconds RetCode: 0 Status: OK