Package: regioneReloaded Version: 1.9.0 Command: rm -rf regioneReloaded.buildbin-libdir && mkdir regioneReloaded.buildbin-libdir && /Users/biocbuild/BBS/utils/build-universal.sh regioneReloaded_1.9.0.tar.gz /Library/Frameworks/R.framework/Resources/bin/R regioneReloaded.buildbin-libdir StartedAt: 2025-02-21 00:48:18 -0500 (Fri, 21 Feb 2025) EndedAt: 2025-02-21 00:49:09 -0500 (Fri, 21 Feb 2025) EllapsedTime: 50.8 seconds RetCode: 0 Status: OK PackageFile: regioneReloaded_1.9.0.tgz PackageFileSize: 3.619 MiB