Package: regioneR Version: 1.39.0 Command: /home/biocbuild/bbs-3.21-bioc/R/bin/R CMD INSTALL regioneR StartedAt: 2025-02-19 15:31:41 -0500 (Wed, 19 Feb 2025) EndedAt: 2025-02-19 15:32:13 -0500 (Wed, 19 Feb 2025) EllapsedTime: 31.9 seconds RetCode: 0 Status: OK