Package: regionalpcs Version: 1.5.0 Command: /home/biocbuild/bbs-3.21-bioc/R/bin/R CMD INSTALL regionalpcs StartedAt: 2025-02-17 15:53:31 -0500 (Mon, 17 Feb 2025) EndedAt: 2025-02-17 15:53:33 -0500 (Mon, 17 Feb 2025) EllapsedTime: 2.0 seconds RetCode: 0 Status: OK