Package: regionalpcs Version: 1.5.0 Command: /home/biocbuild/bbs-3.21-bioc/R/bin/R CMD check --install=check:regionalpcs.install-out.txt --library=/home/biocbuild/bbs-3.21-bioc/R/site-library --timings regionalpcs_1.5.0.tar.gz StartedAt: 2025-02-18 01:26:57 -0500 (Tue, 18 Feb 2025) EndedAt: 2025-02-18 01:28:03 -0500 (Tue, 18 Feb 2025) EllapsedTime: 66.0 seconds RetCode: 0 Status: OK CheckDir: regionalpcs.Rcheck Warnings: 0