Package: regionalpcs Version: 1.5.0 Command: /Library/Frameworks/R.framework/Resources/bin/R CMD check --install=check:regionalpcs.install-out.txt --library=/Library/Frameworks/R.framework/Resources/library --no-vignettes --timings regionalpcs_1.5.0.tar.gz StartedAt: 2025-02-17 22:37:01 -0500 (Mon, 17 Feb 2025) EndedAt: 2025-02-17 22:37:53 -0500 (Mon, 17 Feb 2025) EllapsedTime: 51.8 seconds RetCode: 0 Status: OK CheckDir: regionalpcs.Rcheck Warnings: 0