Package: regionReport Version: 1.41.1 Command: rm -rf regionReport.buildbin-libdir && mkdir regionReport.buildbin-libdir && /Users/biocbuild/BBS/utils/build-universal.sh regionReport_1.41.1.tar.gz /Library/Frameworks/R.framework/Resources/bin/R regionReport.buildbin-libdir StartedAt: 2025-02-19 00:42:21 -0500 (Wed, 19 Feb 2025) EndedAt: 2025-02-19 00:43:24 -0500 (Wed, 19 Feb 2025) EllapsedTime: 63.3 seconds RetCode: 0 Status: OK PackageFile: regionReport_1.41.1.tgz PackageFileSize: 694.7 KiB