Package: recoup Version: 1.35.0 Command: /Library/Frameworks/R.framework/Resources/bin/R CMD check --install=check:recoup.install-out.txt --library=/Library/Frameworks/R.framework/Resources/library --no-vignettes --timings recoup_1.35.0.tar.gz StartedAt: 2025-02-21 22:42:01 -0500 (Fri, 21 Feb 2025) EndedAt: 2025-02-21 22:49:29 -0500 (Fri, 21 Feb 2025) EllapsedTime: 447.7 seconds RetCode: 0 Status: OK CheckDir: recoup.Rcheck Warnings: 0