Package: recoup Version: 1.35.0 Command: /Library/Frameworks/R.framework/Resources/bin/R CMD build --keep-empty-dirs --no-resave-data recoup StartedAt: 2025-02-21 17:57:40 -0500 (Fri, 21 Feb 2025) EndedAt: 2025-02-21 17:58:43 -0500 (Fri, 21 Feb 2025) EllapsedTime: 62.8 seconds RetCode: 0 Status: OK PackageFile: recoup_1.35.0.tar.gz PackageFileSize: 2.252 MiB