Package: recoup Version: 1.35.0 Command: rm -rf recoup.buildbin-libdir && mkdir recoup.buildbin-libdir && /Users/biocbuild/BBS/utils/build-universal.sh recoup_1.35.0.tar.gz /Library/Frameworks/R.framework/Resources/bin/R recoup.buildbin-libdir StartedAt: 2025-02-21 00:48:12 -0500 (Fri, 21 Feb 2025) EndedAt: 2025-02-21 00:49:13 -0500 (Fri, 21 Feb 2025) EllapsedTime: 61.3 seconds RetCode: 0 Status: OK PackageFile: recoup_1.35.0.tgz PackageFileSize: 2.69 MiB