Package: recoup Version: 1.35.0 Command: /Library/Frameworks/R.framework/Resources/bin/R CMD INSTALL recoup StartedAt: 2025-02-20 15:13:53 -0500 (Thu, 20 Feb 2025) EndedAt: 2025-02-20 15:14:10 -0500 (Thu, 20 Feb 2025) EllapsedTime: 17.4 seconds RetCode: 0 Status: OK