Package: recoup Version: 1.35.0 Command: /Library/Frameworks/R.framework/Resources/bin/R CMD check --install=check:recoup.install-out.txt --library=/Library/Frameworks/R.framework/Resources/library --no-vignettes --timings recoup_1.35.0.tar.gz StartedAt: 2025-02-20 20:57:14 -0500 (Thu, 20 Feb 2025) EndedAt: 2025-02-20 20:59:53 -0500 (Thu, 20 Feb 2025) EllapsedTime: 158.9 seconds RetCode: 0 Status: OK CheckDir: recoup.Rcheck Warnings: 0