Package: recoup Version: 1.35.0 Command: /Library/Frameworks/R.framework/Resources/bin/R CMD build --keep-empty-dirs --no-resave-data recoup StartedAt: 2025-02-20 17:21:53 -0500 (Thu, 20 Feb 2025) EndedAt: 2025-02-20 17:22:17 -0500 (Thu, 20 Feb 2025) EllapsedTime: 23.3 seconds RetCode: 0 Status: OK PackageFile: recoup_1.35.0.tar.gz PackageFileSize: 2.252 MiB