Package: recountmethylation Version: 1.17.0 Command: /Library/Frameworks/R.framework/Resources/bin/R CMD build --keep-empty-dirs --no-resave-data recountmethylation StartedAt: 2025-02-19 17:57:21 -0500 (Wed, 19 Feb 2025) EndedAt: 2025-02-19 17:59:37 -0500 (Wed, 19 Feb 2025) EllapsedTime: 136.1 seconds RetCode: 0 Status: OK PackageFile: recountmethylation_1.17.0.tar.gz PackageFileSize: 4.856 MiB