Package: recount Version: 1.33.0 Command: E:\biocbuild\bbs-3.21-bioc\R\bin\R.exe CMD check --no-multiarch --install=check:recount.install-out.txt --library=E:\biocbuild\bbs-3.21-bioc\R\library --no-vignettes --timings recount_1.33.0.tar.gz StartedAt: 2025-02-21 04:52:07 -0500 (Fri, 21 Feb 2025) EndedAt: 2025-02-21 05:01:55 -0500 (Fri, 21 Feb 2025) EllapsedTime: 588.4 seconds RetCode: 0 Status: OK CheckDir: recount.Rcheck Warnings: 0