Package: recount Version: 1.33.0 Command: /home/biocbuild/bbs-3.21-bioc/R/bin/R CMD INSTALL recount StartedAt: 2025-02-20 16:10:05 -0500 (Thu, 20 Feb 2025) EndedAt: 2025-02-20 16:11:15 -0500 (Thu, 20 Feb 2025) EllapsedTime: 69.3 seconds RetCode: 0 Status: OK