Package: reconsi Version: 1.19.0 Command: chmod a+r reconsi -R && E:\biocbuild\bbs-3.21-bioc\R\bin\R.exe CMD build --keep-empty-dirs --no-resave-data reconsi StartedAt: 2025-02-18 21:02:24 -0500 (Tue, 18 Feb 2025) EndedAt: 2025-02-18 21:03:56 -0500 (Tue, 18 Feb 2025) EllapsedTime: 91.9 seconds RetCode: 0 Status: OK PackageFile: reconsi_1.19.0.tar.gz PackageFileSize: 95.82 KiB