Package: reconsi Version: 1.19.0 Command: rm -rf reconsi.buildbin-libdir && mkdir reconsi.buildbin-libdir && E:\biocbuild\bbs-3.21-bioc\R\bin\R.exe CMD INSTALL --build --library=reconsi.buildbin-libdir reconsi_1.19.0.tar.gz StartedAt: 2025-02-19 08:12:18 -0500 (Wed, 19 Feb 2025) EndedAt: 2025-02-19 08:12:51 -0500 (Wed, 19 Feb 2025) EllapsedTime: 33.1 seconds RetCode: 0 Status: OK PackageFile: reconsi_1.19.0.zip PackageFileSize: 165.6 KiB