Package: reconsi Version: 1.19.0 Command: /Library/Frameworks/R.framework/Resources/bin/R CMD INSTALL reconsi StartedAt: 2025-02-20 15:22:42 -0500 (Thu, 20 Feb 2025) EndedAt: 2025-02-20 15:22:49 -0500 (Thu, 20 Feb 2025) EllapsedTime: 7.5 seconds RetCode: 0 Status: OK