Package: receptLoss Version: 1.19.0 Command: rm -rf receptLoss.buildbin-libdir && mkdir receptLoss.buildbin-libdir && /Users/biocbuild/BBS/utils/build-universal.sh receptLoss_1.19.0.tar.gz /Library/Frameworks/R.framework/Resources/bin/R receptLoss.buildbin-libdir StartedAt: 2025-02-19 00:42:10 -0500 (Wed, 19 Feb 2025) EndedAt: 2025-02-19 00:42:43 -0500 (Wed, 19 Feb 2025) EllapsedTime: 32.3 seconds RetCode: 0 Status: OK PackageFile: receptLoss_1.19.0.tgz PackageFileSize: 386.3 KiB