Package: receptLoss Version: 1.19.0 Command: /Library/Frameworks/R.framework/Resources/bin/R CMD build --keep-empty-dirs --no-resave-data receptLoss StartedAt: 2025-02-18 17:23:38 -0500 (Tue, 18 Feb 2025) EndedAt: 2025-02-18 17:23:50 -0500 (Tue, 18 Feb 2025) EllapsedTime: 12.1 seconds RetCode: 0 Status: OK PackageFile: receptLoss_1.19.0.tar.gz PackageFileSize: 639.6 KiB