Package: rebook Version: 1.17.0 Command: E:\biocbuild\bbs-3.21-bioc\R\bin\R.exe CMD INSTALL rebook StartedAt: 2025-02-20 15:41:35 -0500 (Thu, 20 Feb 2025) EndedAt: 2025-02-20 15:41:50 -0500 (Thu, 20 Feb 2025) EllapsedTime: 14.5 seconds RetCode: 0 Status: OK