Package: rebook Version: 1.17.0 Command: rm -rf rebook.buildbin-libdir && mkdir rebook.buildbin-libdir && E:\biocbuild\bbs-3.21-bioc\R\bin\R.exe CMD INSTALL --build --library=rebook.buildbin-libdir rebook_1.17.0.tar.gz StartedAt: 2025-02-21 08:53:11 -0500 (Fri, 21 Feb 2025) EndedAt: 2025-02-21 08:53:29 -0500 (Fri, 21 Feb 2025) EllapsedTime: 18.8 seconds RetCode: 0 Status: OK PackageFile: rebook_1.17.0.zip PackageFileSize: 335 KiB