Package: rebook Version: 1.17.0 Command: /home/biocbuild/bbs-3.21-bioc/R/bin/R CMD build --keep-empty-dirs --no-resave-data rebook StartedAt: 2025-02-20 18:54:23 -0500 (Thu, 20 Feb 2025) EndedAt: 2025-02-20 18:54:42 -0500 (Thu, 20 Feb 2025) EllapsedTime: 19.0 seconds RetCode: 0 Status: OK PackageFile: rebook_1.17.0.tar.gz PackageFileSize: 262.7 KiB