Package: rebook Version: 1.17.0 Command: rm -rf rebook.buildbin-libdir && mkdir rebook.buildbin-libdir && /Users/biocbuild/BBS/utils/build-universal.sh rebook_1.17.0.tar.gz /Library/Frameworks/R.framework/Resources/bin/R rebook.buildbin-libdir StartedAt: 2025-02-21 00:48:06 -0500 (Fri, 21 Feb 2025) EndedAt: 2025-02-21 00:48:16 -0500 (Fri, 21 Feb 2025) EllapsedTime: 9.2 seconds RetCode: 0 Status: OK PackageFile: rebook_1.17.0.tgz PackageFileSize: 328.4 KiB