Package: rebook Version: 1.17.0 Command: /Library/Frameworks/R.framework/Resources/bin/R CMD check --install=check:rebook.install-out.txt --library=/Library/Frameworks/R.framework/Resources/library --no-vignettes --timings rebook_1.17.0.tar.gz StartedAt: 2025-02-21 21:34:23 -0500 (Fri, 21 Feb 2025) EndedAt: 2025-02-21 21:35:14 -0500 (Fri, 21 Feb 2025) EllapsedTime: 50.7 seconds RetCode: 0 Status: WARNINGS CheckDir: rebook.Rcheck Warnings: 2