Package: rcellminer Version: 2.29.0 Command: E:\biocbuild\bbs-3.21-bioc\R\bin\R.exe CMD INSTALL rcellminer StartedAt: 2025-02-20 15:34:19 -0500 (Thu, 20 Feb 2025) EndedAt: 2025-02-20 15:35:05 -0500 (Thu, 20 Feb 2025) EllapsedTime: 45.4 seconds RetCode: 0 Status: OK