Package: rcellminer Version: 2.29.0 Command: chmod a+r rcellminer -R && E:\biocbuild\bbs-3.21-bioc\R\bin\R.exe CMD build --keep-empty-dirs --no-resave-data rcellminer StartedAt: 2025-02-20 21:07:52 -0500 (Thu, 20 Feb 2025) EndedAt: 2025-02-20 21:11:05 -0500 (Thu, 20 Feb 2025) EllapsedTime: 193.0 seconds RetCode: 0 Status: OK PackageFile: rcellminer_2.29.0.tar.gz PackageFileSize: 706.2 KiB