Package: rcellminer Version: 2.29.0 Command: rm -rf rcellminer.buildbin-libdir && mkdir rcellminer.buildbin-libdir && E:\biocbuild\bbs-3.21-bioc\R\bin\R.exe CMD INSTALL --build --library=rcellminer.buildbin-libdir rcellminer_2.29.0.tar.gz StartedAt: 2025-02-21 08:52:05 -0500 (Fri, 21 Feb 2025) EndedAt: 2025-02-21 08:53:08 -0500 (Fri, 21 Feb 2025) EllapsedTime: 63.4 seconds RetCode: 0 Status: OK PackageFile: rcellminer_2.29.0.zip PackageFileSize: 971 KiB