Package: rcellminer Version: 2.29.0 Command: /home/biocbuild/bbs-3.21-bioc/R/bin/R CMD INSTALL rcellminer StartedAt: 2025-02-20 15:24:02 -0500 (Thu, 20 Feb 2025) EndedAt: 2025-02-20 15:24:09 -0500 (Thu, 20 Feb 2025) EllapsedTime: 6.8 seconds RetCode: 0 Status: OK