Package: rcellminer Version: 2.29.0 Command: /home/biocbuild/bbs-3.21-bioc/R/bin/R CMD check --install=check:rcellminer.install-out.txt --library=/home/biocbuild/bbs-3.21-bioc/R/site-library --timings rcellminer_2.29.0.tar.gz StartedAt: 2025-02-21 01:02:33 -0500 (Fri, 21 Feb 2025) EndedAt: 2025-02-21 01:06:52 -0500 (Fri, 21 Feb 2025) EllapsedTime: 258.6 seconds RetCode: 0 Status: WARNINGS CheckDir: rcellminer.Rcheck Warnings: 1