Package: rcellminer Version: 2.29.0 Command: /Library/Frameworks/R.framework/Resources/bin/R CMD INSTALL rcellminer StartedAt: 2025-02-20 15:24:35 -0500 (Thu, 20 Feb 2025) EndedAt: 2025-02-20 15:24:48 -0500 (Thu, 20 Feb 2025) EllapsedTime: 12.9 seconds RetCode: 0 Status: OK