Package: rcellminer Version: 2.29.0 Command: /Library/Frameworks/R.framework/Resources/bin/R CMD check --install=check:rcellminer.install-out.txt --library=/Library/Frameworks/R.framework/Resources/library --no-vignettes --timings rcellminer_2.29.0.tar.gz StartedAt: 2025-02-20 20:55:54 -0500 (Thu, 20 Feb 2025) EndedAt: 2025-02-20 20:56:40 -0500 (Thu, 20 Feb 2025) EllapsedTime: 45.8 seconds RetCode: 0 Status: WARNINGS CheckDir: rcellminer.Rcheck Warnings: 1