Package: rcellminer Version: 2.29.0 Command: /Library/Frameworks/R.framework/Resources/bin/R CMD build --keep-empty-dirs --no-resave-data rcellminer StartedAt: 2025-02-20 17:20:54 -0500 (Thu, 20 Feb 2025) EndedAt: 2025-02-20 17:22:08 -0500 (Thu, 20 Feb 2025) EllapsedTime: 74.9 seconds RetCode: 0 Status: OK PackageFile: rcellminer_2.29.0.tar.gz PackageFileSize: 2.649 MiB