Package: rcellminer Version: 2.29.0 Command: rm -rf rcellminer.buildbin-libdir && mkdir rcellminer.buildbin-libdir && /Users/biocbuild/BBS/utils/build-universal.sh rcellminer_2.29.0.tar.gz /Library/Frameworks/R.framework/Resources/bin/R rcellminer.buildbin-libdir StartedAt: 2025-02-20 22:31:18 -0500 (Thu, 20 Feb 2025) EndedAt: 2025-02-20 22:31:22 -0500 (Thu, 20 Feb 2025) EllapsedTime: 4.1 seconds RetCode: 0 Status: OK PackageFile: rcellminer_2.29.0.tgz PackageFileSize: 2.907 MiB