Package: rbsurv Version: 2.65.0 Command: E:\biocbuild\bbs-3.21-bioc\R\bin\R.exe CMD INSTALL rbsurv StartedAt: 2025-02-19 16:35:02 -0500 (Wed, 19 Feb 2025) EndedAt: 2025-02-19 16:35:12 -0500 (Wed, 19 Feb 2025) EllapsedTime: 9.8 seconds RetCode: 0 Status: OK