Package: rbsurv Version: 2.65.0 Command: chmod a+r rbsurv -R && E:\biocbuild\bbs-3.21-bioc\R\bin\R.exe CMD build --keep-empty-dirs --no-resave-data rbsurv StartedAt: 2025-02-19 21:04:30 -0500 (Wed, 19 Feb 2025) EndedAt: 2025-02-19 21:05:06 -0500 (Wed, 19 Feb 2025) EllapsedTime: 35.9 seconds RetCode: 0 Status: OK PackageFile: rbsurv_2.65.0.tar.gz PackageFileSize: 254.6 KiB