Package: rbsurv Version: 2.65.0 Command: rm -rf rbsurv.buildbin-libdir && mkdir rbsurv.buildbin-libdir && E:\biocbuild\bbs-3.21-bioc\R\bin\R.exe CMD INSTALL --build --library=rbsurv.buildbin-libdir rbsurv_2.65.0.tar.gz StartedAt: 2025-02-20 08:32:08 -0500 (Thu, 20 Feb 2025) EndedAt: 2025-02-20 08:32:22 -0500 (Thu, 20 Feb 2025) EllapsedTime: 14.5 seconds RetCode: 0 Status: OK PackageFile: rbsurv_2.65.0.zip PackageFileSize: 285.6 KiB