Package: rbsurv Version: 2.65.0 Command: /Library/Frameworks/R.framework/Resources/bin/R CMD build --keep-empty-dirs --no-resave-data rbsurv StartedAt: 2025-02-19 17:55:42 -0500 (Wed, 19 Feb 2025) EndedAt: 2025-02-19 17:56:16 -0500 (Wed, 19 Feb 2025) EllapsedTime: 33.1 seconds RetCode: 0 Status: OK PackageFile: rbsurv_2.65.0.tar.gz PackageFileSize: 365.9 KiB