Package: rbsurv Version: 2.65.0 Maintainer: Soo-heang Eo MaintainerEmail: hanansh at korea.ac.kr git_url: https://git.bioconductor.org/packages/rbsurv git_branch: devel git_last_commit: 8f38276 git_last_commit_date: 2024-10-29 09:27:49 -0500 (Tue, 29 Oct 2024)