Package: rawrr Version: 1.15.10 Command: /home/biocbuild/bbs-3.21-bioc/R/bin/R CMD build --keep-empty-dirs --no-resave-data rawrr StartedAt: 2025-02-20 18:51:52 -0500 (Thu, 20 Feb 2025) EndedAt: 2025-02-20 18:52:53 -0500 (Thu, 20 Feb 2025) EllapsedTime: 61.1 seconds RetCode: 0 Status: OK PackageFile: rawrr_1.15.10.tar.gz PackageFileSize: 2.307 MiB