Package: rawrr Version: 1.15.10 Command: /Library/Frameworks/R.framework/Resources/bin/R CMD check --install=check:rawrr.install-out.txt --library=/Library/Frameworks/R.framework/Resources/library --no-vignettes --timings rawrr_1.15.10.tar.gz StartedAt: 2025-02-20 22:38:11 -0500 (Thu, 20 Feb 2025) EndedAt: 2025-02-20 22:39:51 -0500 (Thu, 20 Feb 2025) EllapsedTime: 99.6 seconds RetCode: 0 Status: OK CheckDir: rawrr.Rcheck Warnings: 0