Package: rawrr Version: 1.15.10 Command: rm -rf rawrr.buildbin-libdir && mkdir rawrr.buildbin-libdir && /Users/biocbuild/BBS/utils/build-universal.sh rawrr_1.15.10.tar.gz /Library/Frameworks/R.framework/Resources/bin/R rawrr.buildbin-libdir StartedAt: 2025-02-21 00:47:31 -0500 (Fri, 21 Feb 2025) EndedAt: 2025-02-21 00:47:39 -0500 (Fri, 21 Feb 2025) EllapsedTime: 8.1 seconds RetCode: 0 Status: OK PackageFile: rawrr_1.15.10.tgz PackageFileSize: 2.026 MiB