Package: rawDiag Version: 1.3.4 Command: rm -rf rawDiag.buildbin-libdir && mkdir rawDiag.buildbin-libdir && E:\biocbuild\bbs-3.21-bioc\R\bin\R.exe CMD INSTALL --build --library=rawDiag.buildbin-libdir rawDiag_1.3.4.tar.gz StartedAt: 2025-02-20 08:31:31 -0500 (Thu, 20 Feb 2025) EndedAt: 2025-02-20 08:31:51 -0500 (Thu, 20 Feb 2025) EllapsedTime: 20.7 seconds RetCode: 0 Status: OK PackageFile: rawDiag_1.3.4.zip PackageFileSize: 963.5 KiB