Package: rawDiag Version: 1.3.4 Command: /home/biocbuild/bbs-3.21-bioc/R/bin/R CMD INSTALL rawDiag StartedAt: 2025-02-19 15:09:07 -0500 (Wed, 19 Feb 2025) EndedAt: 2025-02-19 15:09:13 -0500 (Wed, 19 Feb 2025) EllapsedTime: 6.3 seconds RetCode: 0 Status: OK